BEGIN:VCALENDAR
VERSION:2.0
PRODID:-//wp-events-plugin.com//7.2.3.1//EN
BEGIN:VEVENT
UID:62@thepearlsflame.com
DTSTART;TZID=America/New_York:20240721T180000
DTEND;TZID=America/New_York:20240721T193000
DTSTAMP:20240711T233247Z
URL:https://thepearlsflame.com/events/spiritual-interactive-panel-what-is-
 indigeneity/
SUMMARY:Spiritual Interactive Panel— What is Indigeneity?
DESCRIPTION:Join us as we spill the T on all sorts of spiritual topics\, fr
 om what it means to be psychic to whether Heaven and Hell are real\, and e
 verything in between! Each session will cover a new topic with different p
 anelists. Each panel will also include a Q&amp\;A session for you to join 
 in with questions and comments.\n\nSIP is offered to the spiritually curio
 us for FREE as part of a commitment to bringing more love\, light\, and he
 aling to the planet.\n\nThe next Spiritual Interactive Panel is\n\nJuly 15
 th:\nWhat is Indigeneity? Join our panel of spiritual teachers\, healers\,
  best-selling authors\, and international speakers as we discuss various s
 piritual topics.\n\nEach of our panel members will weigh in and then the r
 est of the time is left for you to ask your burning questions.\n\nThis Sun
 day! I join Kevin Ross Emery and Nancy Smith for another Spiritual Interac
 tive Panel speaking on a topic close to my heart and personal journey\, th
 at also weaves on a broader scale with those I am in community with and th
 ose with whom I am facilitating on their journey: 𝙒𝙝𝙖𝙩 𝙞
 𝙨 𝙄𝙣𝙙𝙞𝙜𝙚𝙣𝙚𝙞𝙩𝙮?\n\nThere are so many di
 mensions and facets to this as the global community evolves forward—reme
 mbering we are all in this together\, and how that can be included in sens
 e of Self—what that feels like to vibrate with consciousness that includ
 es that which is beyond the modern Western mind. Ultimately\, how do we in
 tegrate awareness of all the ways and relationship that have been forgotte
 n or disregarded as wisdom\, to become… human? —humans who are in holi
 stic\, 𝙘𝙤𝙡𝙡𝙖𝙗𝙤𝙧𝙖𝙩𝙞𝙫𝙚 connection wit
 h self\, other\, local communities\, global community\, nature\, the divin
 e. The key in reclaiming the root (your body\, as well as your body-in-con
 nection) is in accessing that which is in your 𝘷𝘦𝘳𝘺 𝘰𝘸
 𝘯 𝘣𝘰𝘯𝘦𝘴\, that vibrate implicit experience and knowings\
 , including Akashic knowings\, that reach far back and forward. And then w
 eaving in collaboration with what my Filipino culture call “kapwa”—t
 he community who are walking with shared inner self.\n\nLook forward to se
 eing you there!\n☀️ Raena\n\n🦚 Streaming Live at at 6pm on July 15t
 h https://www.facebook.com/NHMetaphysical?mibextid=LQQJ4d\nOur panelist ar
 e: Nancy Smith\, DDiv\, Raena Wilson\nHosted by Kevin Ross Emery DDiv.\n\n
 Want to learn more about our panelists? Click below!\n\nRegister
ATTACH;FMTTYPE=image/jpeg:https://thepearlsflame.com/wp-content/uploads/20
 23/08/IMG_2429.webp
CATEGORIES:Events,Workshops
LOCATION:https://www.facebook.com/NHMetaphysical
END:VEVENT
BEGIN:VTIMEZONE
TZID:America/New_York
X-LIC-LOCATION:America/New_York
BEGIN:DAYLIGHT
DTSTART:20240310T030000
TZOFFSETFROM:-0500
TZOFFSETTO:-0400
TZNAME:EDT
END:DAYLIGHT
END:VTIMEZONE
END:VCALENDAR