BEGIN:VCALENDAR
VERSION:2.0
PRODID:-//wp-events-plugin.com//7.2.3.1//EN
BEGIN:VEVENT
UID:65@thepearlsflame.com
DTSTART;TZID=America/New_York:20240610T180000
DTEND;TZID=America/New_York:20240610T193000
DTSTAMP:20240506T232415Z
URL:https://thepearlsflame.com/events/spiritual-interactive-panel-spiritua
 l-abuse/
SUMMARY:Spiritual Interactive Panel— Spiritual Abuse
DESCRIPTION:Join us as we spill the T on all sorts of spiritual topics\, fr
 om what it means to be psychic to whether Heaven and Hell are real\, and e
 verything in between! Each session will cover a new topic with different p
 anelists. Each panel will also include a Q&amp\;A session for you to join 
 in with questions and comments.\n\nSIP is offered to the spiritually curio
 us for FREE as part of a commitment to bringing more love\, light\, and he
 aling to the planet.\n\nThe next Spiritual Interactive Panel is:\nWhat is 
 Spiritual Abuse?\nJoin our panel of spiritual teachers\, healers\, best-se
 lling authors\, and international speakers as we discuss spiritual abuse\n
 Each of our panel members will weigh in and then the rest of the time is l
 eft for you to ask your burning questions around karma.\nOur panelist are:
  Nancy Smith\, DDiv\, Raena Wilson\nHosted by Kevin Ross Emery DDiv.\n\nSt
 reaming Live on FB at 6 on June 10th https://www.facebook.com/NHMetaphysic
 al
ATTACH;FMTTYPE=image/jpeg:https://thepearlsflame.com/wp-content/uploads/20
 23/08/IMG_2429.webp
CATEGORIES:Events,Workshops
LOCATION:https://www.facebook.com/NHMetaphysical
END:VEVENT
BEGIN:VTIMEZONE
TZID:America/New_York
X-LIC-LOCATION:America/New_York
BEGIN:DAYLIGHT
DTSTART:20240310T030000
TZOFFSETFROM:-0500
TZOFFSETTO:-0400
TZNAME:EDT
END:DAYLIGHT
END:VTIMEZONE
END:VCALENDAR