BEGIN:VCALENDAR
VERSION:2.0
PRODID:-//wp-events-plugin.com//7.2.3.1//EN
BEGIN:VEVENT
UID:58@thepearlsflame.com
DTSTART;TZID=America/New_York:20240317T160000
DTEND;TZID=America/New_York:20240317T173000
DTSTAMP:20240228T204820Z
URL:https://thepearlsflame.com/events/spiritual-interactive-panel-soul-con
 tracts/
SUMMARY:Spiritual Interactive Panel— Soul Contracts
DESCRIPTION:Join us as we spill the T on all sorts of spiritual topics\, fr
 om what it means to be psychic to whether Heaven and Hell are real\, and e
 verything in between! Each session will cover a new topic with different p
 anelists. Each panel will also include a Q&amp\;A session for you to join 
 in with questions and comments.\n\nSIP is offered to the spiritually curio
 us for FREE as part of a commitment to bringing more love\, light\, and he
 aling to the planet.\n\nThe next Spiritual Interactive Panel is\n\nMarch 1
 7th:\nSoul Contracts—Did I sign up for this? Join our panel of spiritual
  teachers\, healers\, best-selling authors\, and international speakers as
  we discuss how we see soul contracts. Did we determine our life path befo
 re we came to Earth?\n\nEach of our panel members will weigh in and then t
 he rest of the time is left for you to ask your burning questions around s
 oul contracts.\nOur panelist are: Nancy Smith\, DDiv\, Raena Wilson\nHoste
 d by Kevin Ross Emery DDiv.\n\nWant to learn more about our panelists? Cli
 ck below!\n\nRegister
ATTACH;FMTTYPE=image/jpeg:https://thepearlsflame.com/wp-content/uploads/20
 23/08/IMG_2429.webp
CATEGORIES:Events,Workshops
LOCATION:https://zoom.com/
END:VEVENT
BEGIN:VTIMEZONE
TZID:America/New_York
X-LIC-LOCATION:America/New_York
BEGIN:DAYLIGHT
DTSTART:20240310T030000
TZOFFSETFROM:-0500
TZOFFSETTO:-0400
TZNAME:EDT
END:DAYLIGHT
END:VTIMEZONE
END:VCALENDAR