BEGIN:VCALENDAR
VERSION:2.0
PRODID:-//wp-events-plugin.com//7.2.3.1//EN
BEGIN:VEVENT
UID:63@thepearlsflame.com
DTSTART;TZID=America/New_York:20240519T180000
DTEND;TZID=America/New_York:20240519T193000
DTSTAMP:20240506T232348Z
URL:https://thepearlsflame.com/events/spiritual-interactive-panel-karma/
SUMMARY:Spiritual Interactive Panel— Karma
DESCRIPTION:Join us as we spill the T on all sorts of spiritual topics\, fr
 om what it means to be psychic to whether Heaven and Hell are real\, and e
 verything in between! Each session will cover a new topic with different p
 anelists. Each panel will also include a Q&amp\;A session for you to join 
 in with questions and comments.\n\nSIP is offered to the spiritually curio
 us for FREE as part of a commitment to bringing more love\, light\, and he
 aling to the planet.\n\nThe next Spiritual Interactive Panel is:\nKarma\nJ
 oin our panel of spiritual teachers\, healers\, best-selling authors\, and
  international speakers as we discuss karma? What does it mean to you? Why
  does it matter?\nEach of our panel members will weigh in and then the res
 t of the time is left for you to ask your burning questions around karma.\
 nOur panelist are: Nancy Smith\, DDiv\, Raena Wilson\, Amber McMahon The K
 arma Queen\nHosted by Kevin Ross Emery DDiv.\n\nStreaming Live on FB at 6 
 on May 19 https://www.facebook.com/NHMetaphysical
ATTACH;FMTTYPE=image/jpeg:https://thepearlsflame.com/wp-content/uploads/20
 23/08/IMG_2429.webp
CATEGORIES:Events,Workshops
LOCATION:https://www.facebook.com/NHMetaphysical
END:VEVENT
BEGIN:VTIMEZONE
TZID:America/New_York
X-LIC-LOCATION:America/New_York
BEGIN:DAYLIGHT
DTSTART:20240310T030000
TZOFFSETFROM:-0500
TZOFFSETTO:-0400
TZNAME:EDT
END:DAYLIGHT
END:VTIMEZONE
END:VCALENDAR