BEGIN:VCALENDAR
VERSION:2.0
PRODID:-//wp-events-plugin.com//7.2.3.1//EN
BEGIN:VEVENT
UID:68@thepearlsflame.com
DTSTART;TZID=America/New_York:20241002T180000
DTEND;TZID=America/New_York:20241113T190000
DTSTAMP:20241001T163142Z
URL:https://thepearlsflame.com/events/soular-movements-groups-shake-your-s
 oul-the-yoga-of-dance/
SUMMARY:Soular Movements Groups: Shake Your Soul® The Yoga of Dance
DESCRIPTION:Thank you everyone who expressed interest in this series! We di
 dn’t receive quite enough sign ups to run the group\, so it is cancelled
  for this fall. Stay tuned for the new year for next opportunities and pos
 sibilities to move!\n\n\nEngage your fluid and alive nature to awaken your
  joy and energy. Every body is a dancer! Shake Your Soul yogadance is inf
 ormed by expressive movement and arts\, conscious movement\, modern and et
 hnic dance\, qi gong\, yogic and somatic principles. We create a sacred in
 tentional space to unleash your creativity and soul wisdom through guided 
 qualities of movement\, encouraging you\, your heart\, your body and BEing
  to freely express yourself through dance. Mostly—it’s super fun and 
 full of heart! No previous or formal movement experience is necessary. Y
 ou have all you need within your breath and body\, heart and spirit. Bring
  your curiosity and willingness to play intuitively and explore in your fe
 eling\, breathing body.\nRead more about my approach»\n\n&nbsp\;\n\n\n\nR
 egistration is closed.\nThis is a six week session from 10/2\, 10/16 to 11
 /13 on Wednesdays 6-7pm. We will not meet 10/9. See below for options on s
 igning up!\nDrop-in to any class in session: $20\nGet your 3 Class Card: $
 55\n3 classes at $5 discount.\nGet your 6 Class Card: $100\n6 classes for 
 the price of 5.\n\nClass cards are available for purchase now\, and availa
 ble for pick up starting Sept 12\, or you can pick it up at your first cla
 ss.\n\n\n\nIf you are a member at Rooted in Flow\, take advantage of your 
 member rate by registering with Kat in studio (or becoming a member) at
  Rooted in Flow!\n\n&nbsp\;\n\n ☑ Read Registration and Booking Policies
  » \n\n\n\n\n\nLook forward to dancing with you at Rooted in Flow!\n\n\n\
 n\n
ATTACH;FMTTYPE=image/jpeg:https://thepearlsflame.com/wp-content/uploads/20
 24/09/oct-2-nov-6.png
CATEGORIES:Soular Movements Groups
LOCATION:Rooted in Flow Yoga\, 6 Sullivan St\, Berwick\, ME\, 03901\, Unite
 d States
X-APPLE-STRUCTURED-LOCATION;VALUE=URI;X-ADDRESS=6 Sullivan St\, Berwick\, M
 E\, 03901\, United States;X-APPLE-RADIUS=100;X-TITLE=Rooted in Flow Yoga:g
 eo:0,0
END:VEVENT
BEGIN:VTIMEZONE
TZID:America/New_York
X-LIC-LOCATION:America/New_York
BEGIN:DAYLIGHT
DTSTART:20240310T030000
TZOFFSETFROM:-0500
TZOFFSETTO:-0400
TZNAME:EDT
END:DAYLIGHT
BEGIN:STANDARD
DTSTART:20241103T010000
TZOFFSETFROM:-0400
TZOFFSETTO:-0500
TZNAME:EST
END:STANDARD
END:VTIMEZONE
END:VCALENDAR