BEGIN:VCALENDAR
VERSION:2.0
PRODID:-//wp-events-plugin.com//7.2.3.1//EN
BEGIN:VEVENT
UID:66@thepearlsflame.com
DTSTART;TZID=America/New_York:20240907T100000
DTEND;TZID=America/New_York:20240907T180000
DTSTAMP:20240907T010925Z
URL:https://thepearlsflame.com/events/mystics-makers-magick-september-2024
 -a-market-that-empowers-through-the-arts/
SUMMARY:Mystics\, Makers & Magick September 2024- A Market That Empowers Th
 rough The Arts
DESCRIPTION:Come find me this September 7th. I'll be offering psychic readi
 ngs\, shamanic service\, and energy healings at my tent at the Mystics\, M
 akers &amp\; Magic Market at Henry Law Park in Dover\, NH\nPre-book your s
 ession with me now» (link coming soon)\nABOUT the Market:\nMystics\, Make
 rs &amp\; Magick September 2024\nA Market That Empowers Through The Arts\n
 September 7th\nRain Date September 8th 2024\n✨Live Local Music All Day\n
 ✨Workshops All Day\n✨Metaphysical Readers\n✨Wellness Practitioners\n
 ✨50+ NE Makers/Artists\n✨Interactive Art Installations From Dave Pette
 ngill &amp\; More\n✨Booze Garden: Maeve’s Mobile Cocktail Hour &amp\; 
 Non-alcoholic options from Auspicious Brew \n✨Food Trucks/Vendors: Hifi 
 Burritos\, Breakaway Cafe\, The Pink Waffle + More\nOur Mission is An incl
 usive\, Community-focused Market that Seeks to Empower\, Educate &amp\; Up
 lift Through the Various Arts: live music\, visual art &amp\; handmade cra
 fts\, healing practices &amp\; services\, metaphysical wares &amp\; offeri
 ngs\, and magickal &amp\; interactive art.\nThis event also raises funds t
 o support three local non-profits!\nIndigenous NH Collaborative Collective
 \nSeacoast Outright\nArts In Reach\nAdmission is FREE.\n--But you can RESE
 RVE tickets for free or by donation for the opportunity to win free prizes
 !\nLEARN MORE »\nOnline Booking is now closed. Walk ins are available on 
 site at the fair!
ATTACH;FMTTYPE=image/jpeg:https://thepearlsflame.com/wp-content/uploads/20
 24/05/mmm.jpg
CATEGORIES:Events,Psychic and Healing Fairs
LOCATION:Henry Law Park\, 1 Washington St\, Dover\, NH\, 03820\, United Sta
 tes
X-APPLE-STRUCTURED-LOCATION;VALUE=URI;X-ADDRESS=1 Washington St\, Dover\, N
 H\, 03820\, United States;X-APPLE-RADIUS=100;X-TITLE=Henry Law Park:geo:0,
 0
END:VEVENT
BEGIN:VTIMEZONE
TZID:America/New_York
X-LIC-LOCATION:America/New_York
BEGIN:DAYLIGHT
DTSTART:20240310T030000
TZOFFSETFROM:-0500
TZOFFSETTO:-0400
TZNAME:EDT
END:DAYLIGHT
END:VTIMEZONE
END:VCALENDAR