BEGIN:VCALENDAR
VERSION:2.0
PRODID:-//wp-events-plugin.com//7.2.3.1//EN
BEGIN:VEVENT
UID:61@thepearlsflame.com
DTSTART;TZID=America/New_York:20241110T100000
DTEND;TZID=America/New_York:20241110T160000
DTSTAMP:20240614T232524Z
URL:https://thepearlsflame.com/events/her-wild-soul-wild-mystic-psychic-fa
 ir-11-10/
SUMMARY:Wild Mystic Psychic Fair — Plaistow NH
DESCRIPTION:Come visit me at Her Wild Soul’s Wild Mystic Psychic Fair at 
 the American Legion in Plaistow\, NH!\n\nI will be offering readings and h
 ealings\, whatever serves you in the moment.\n\n$40 for 15 min.\nTarot\, L
 ithomancy (stones)\, Cardology\, Visioning\, Psychic Reading\, Shamanic En
 ergy Work\, Somatic Healing and Coaching\nVery much looking forward to mee
 ting you!\nPre-book your reading or healing with me now »
ATTACH;FMTTYPE=image/jpeg:https://thepearlsflame.com/wp-content/uploads/20
 24/04/img_2898.jpeg
CATEGORIES:Events,Psychic and Healing Fairs
LOCATION:The American Legion\, 176 Main St\, Plaistow\, NH\, 03865\, United
  States
X-APPLE-STRUCTURED-LOCATION;VALUE=URI;X-ADDRESS=176 Main St\, Plaistow\, NH
 \, 03865\, United States;X-APPLE-RADIUS=100;X-TITLE=The American Legion:ge
 o:0,0
END:VEVENT
BEGIN:VTIMEZONE
TZID:America/New_York
X-LIC-LOCATION:America/New_York
BEGIN:STANDARD
DTSTART:20241103T010000
TZOFFSETFROM:-0400
TZOFFSETTO:-0500
TZNAME:EST
END:STANDARD
END:VTIMEZONE
END:VCALENDAR