BEGIN:VCALENDAR
VERSION:2.0
PRODID:-//wp-events-plugin.com//7.2.3.1//EN
BEGIN:VEVENT
UID:64@thepearlsflame.com
DTSTART;TZID=America/New_York:20240518T110000
DTEND;TZID=America/New_York:20240518T160000
DTSTAMP:20240506T232225Z
URL:https://thepearlsflame.com/events/gigis-spiritual-awakenings-psychic-a
 nd-healing-fair-haverhill-ma-5-18/
SUMMARY:Gigi's Spiritual Awakenings Psychic and Healing Fair — Haverhill\
 , MA
DESCRIPTION:Come visit me at Gigi's Spiritual Awakenings Psychic &amp\; Hea
 ling Fair.\n\nFind me at Kevin’s Ross Emery’s table\, where I’ll be 
 assisting with sales of his fabulous books as he gives his everything psyc
 hic readings\, and I will be sharing a selection of my sunrae artworks  w
 ire art jewelry as well.\n\nVery much looking forward to meeting you!\n\n\
 n\n
ATTACH;FMTTYPE=image/jpeg:https://thepearlsflame.com/wp-content/uploads/20
 24/05/img_3054.jpeg
CATEGORIES:Events,Psychic and Healing Fairs
LOCATION:Haverhill Legion\, 1314 Main St\, Haverhill\, MA\, United States
X-APPLE-STRUCTURED-LOCATION;VALUE=URI;X-ADDRESS=1314 Main St\, Haverhill\, 
 MA\, United States;X-APPLE-RADIUS=100;X-TITLE=Haverhill Legion:geo:0,0
END:VEVENT
BEGIN:VTIMEZONE
TZID:America/New_York
X-LIC-LOCATION:America/New_York
BEGIN:DAYLIGHT
DTSTART:20240310T030000
TZOFFSETFROM:-0500
TZOFFSETTO:-0400
TZNAME:EDT
END:DAYLIGHT
END:VTIMEZONE
END:VCALENDAR