BEGIN:VCALENDAR
VERSION:2.0
PRODID:-//wp-events-plugin.com//7.2.3.1//EN
BEGIN:VEVENT
UID:60@thepearlsflame.com
DTSTART;TZID=America/New_York:20241005T110000
DTEND;TZID=America/New_York:20241005T160000
DTSTAMP:20240614T231826Z
URL:https://thepearlsflame.com/events/gigis-spiritual-awakenings-psychic-a
 nd-healing-fair-10-5/
SUMMARY:Gigi's Spiritual Awakenings Psychic and Healing Fair — The Brook
DESCRIPTION:Come visit me at Gigi's Spiritual Awakenings Psychic &amp\; Hea
 ling Fair at The Brook in Seabrook\, NH!\n\nI will be offering readings an
 d healings\, whatever serves you in the moment.\n\n$40 for 15 min.\nTarot\
 , Lithomancy (stones)\, Cardology\, Visioning\, Psychic Reading\, Shamanic
  Energy Work\, Somatic Healing and Coaching\nVery much looking forward to 
 meeting you!\nPre-book your reading or healing with me now »
ATTACH;FMTTYPE=image/jpeg:https://thepearlsflame.com/wp-content/uploads/20
 24/04/img_3427.jpeg
CATEGORIES:Events,Psychic and Healing Fairs
LOCATION:The Brook\, 319 New Zealand Rd\, Seabrook\, NH\, 03874\, United St
 ates
X-APPLE-STRUCTURED-LOCATION;VALUE=URI;X-ADDRESS=319 New Zealand Rd\, Seabro
 ok\, NH\, 03874\, United States;X-APPLE-RADIUS=100;X-TITLE=The Brook:geo:0
 ,0
END:VEVENT
BEGIN:VTIMEZONE
TZID:America/New_York
X-LIC-LOCATION:America/New_York
BEGIN:DAYLIGHT
DTSTART:20240310T030000
TZOFFSETFROM:-0500
TZOFFSETTO:-0400
TZNAME:EDT
END:DAYLIGHT
END:VTIMEZONE
END:VCALENDAR